BEGIN:VCALENDAR
VERSION:2.0
PRODID:-//FotoclubRooi - Fotoclub Sint Oedenrode voor actuele kennis voor fotografen - ECPv6.15.20//NONSGML v1.0//EN
CALSCALE:GREGORIAN
METHOD:PUBLISH
X-WR-CALNAME:FotoclubRooi - Fotoclub Sint Oedenrode voor actuele kennis voor fotografen
X-ORIGINAL-URL:https://www.fotoclubrooi.nl
X-WR-CALDESC:Evenementen voor FotoclubRooi - Fotoclub Sint Oedenrode voor actuele kennis voor fotografen
REFRESH-INTERVAL;VALUE=DURATION:PT1H
X-Robots-Tag:noindex
X-PUBLISHED-TTL:PT1H
BEGIN:VTIMEZONE
TZID:Europe/Amsterdam
BEGIN:DAYLIGHT
TZOFFSETFROM:+0100
TZOFFSETTO:+0200
TZNAME:CEST
DTSTART:20250330T010000
END:DAYLIGHT
BEGIN:STANDARD
TZOFFSETFROM:+0200
TZOFFSETTO:+0100
TZNAME:CET
DTSTART:20251026T010000
END:STANDARD
BEGIN:DAYLIGHT
TZOFFSETFROM:+0100
TZOFFSETTO:+0200
TZNAME:CEST
DTSTART:20260329T010000
END:DAYLIGHT
BEGIN:STANDARD
TZOFFSETFROM:+0200
TZOFFSETTO:+0100
TZNAME:CET
DTSTART:20261025T010000
END:STANDARD
BEGIN:DAYLIGHT
TZOFFSETFROM:+0100
TZOFFSETTO:+0200
TZNAME:CEST
DTSTART:20270328T010000
END:DAYLIGHT
BEGIN:STANDARD
TZOFFSETFROM:+0200
TZOFFSETTO:+0100
TZNAME:CET
DTSTART:20271031T010000
END:STANDARD
END:VTIMEZONE
BEGIN:VEVENT
DTSTART;VALUE=DATE:20260504
DTEND;VALUE=DATE:20260505
DTSTAMP:20260422T195044
CREATED:20260117T171325Z
LAST-MODIFIED:20260117T171325Z
UID:9068-1777852800-1777939199@www.fotoclubrooi.nl
SUMMARY:Inrichten voorjaarsexpositie
DESCRIPTION:Tijdstip nog af te spreken
URL:https://www.fotoclubrooi.nl/event/inrichten-voorjaarsexpositie/
LOCATION:Mariendael Cultureel educatief centrum\, Laan van Henkenshage 2 Sint-Oedenrode\, SINT-OEDENRODE\, Nederland\, 5492 BH\, Netherlands
CATEGORIES:Expositie
END:VEVENT
BEGIN:VEVENT
DTSTART;VALUE=DATE:20260505
DTEND;VALUE=DATE:20260713
DTSTAMP:20260422T195044
CREATED:20260117T171044Z
LAST-MODIFIED:20260117T171044Z
UID:9065-1777939200-1783900799@www.fotoclubrooi.nl
SUMMARY:Voorjaarsexpositie
DESCRIPTION:Openingstijden\n\n\n\nMaandag\n10.00 – 22.00 uur\n\n\nDinsdag\n10.00 – 22.00 uur\n\n\nWoensdag\n10.00 – 22.00 uur\n\n\nDonderdag\n10.00 – 22.00 uur\n\n\nVrijdag\n13.00 – 20.00 uur\n\n\nZaterdag / Zondag\nGesloten\n\n\n\nIn de weekenden en schoolvakanties zijn we open als er voorstellingen zijn.
URL:https://www.fotoclubrooi.nl/event/voorjaarsexpositie/
LOCATION:Mariendael Cultureel educatief centrum\, Laan van Henkenshage 2 Sint-Oedenrode\, SINT-OEDENRODE\, Nederland\, 5492 BH\, Netherlands
CATEGORIES:Expositie
END:VEVENT
BEGIN:VEVENT
DTSTART;TZID=Europe/Amsterdam:20260521T140000
DTEND;TZID=Europe/Amsterdam:20260521T160000
DTSTAMP:20260422T195044
CREATED:20260117T072120Z
LAST-MODIFIED:20260117T144447Z
UID:9046-1779372000-1779379200@www.fotoclubrooi.nl
SUMMARY:Bestuursvergadering
DESCRIPTION:
URL:https://www.fotoclubrooi.nl/event/bestuursvergadering-5/
CATEGORIES:Bestuur
END:VEVENT
BEGIN:VEVENT
DTSTART;TZID=Europe/Amsterdam:20260526T193000
DTEND;TZID=Europe/Amsterdam:20260526T223000
DTSTAMP:20260422T195044
CREATED:20260116T153623Z
LAST-MODIFIED:20260117T144429Z
UID:9018-1779823800-1779834600@www.fotoclubrooi.nl
SUMMARY:Clubavond
DESCRIPTION:Gespreksleider: \nTechniek:
URL:https://www.fotoclubrooi.nl/event/clubavond-5/
LOCATION:Mariendael Cultureel educatief centrum\, Laan van Henkenshage 2 Sint-Oedenrode\, SINT-OEDENRODE\, Nederland\, 5492 BH\, Netherlands
CATEGORIES:Clubavond
END:VEVENT
BEGIN:VEVENT
DTSTART;TZID=Europe/Amsterdam:20260625T140000
DTEND;TZID=Europe/Amsterdam:20260625T160000
DTSTAMP:20260422T195044
CREATED:20260117T072247Z
LAST-MODIFIED:20260117T072247Z
UID:9048-1782396000-1782403200@www.fotoclubrooi.nl
SUMMARY:Bestuursvergadering
DESCRIPTION:
URL:https://www.fotoclubrooi.nl/event/bestuursvergadering-6/
CATEGORIES:Bestuur
END:VEVENT
BEGIN:VEVENT
DTSTART;TZID=Europe/Amsterdam:20260630T193000
DTEND;TZID=Europe/Amsterdam:20260630T223000
DTSTAMP:20260422T195044
CREATED:20260116T153738Z
LAST-MODIFIED:20260117T144406Z
UID:9020-1782847800-1782858600@www.fotoclubrooi.nl
SUMMARY:Clubavond
DESCRIPTION:Gespreksleider: \nTechniek:
URL:https://www.fotoclubrooi.nl/event/clubavond-6/
LOCATION:Mariendael Cultureel educatief centrum\, Laan van Henkenshage 2 Sint-Oedenrode\, SINT-OEDENRODE\, Nederland\, 5492 BH\, Netherlands
CATEGORIES:Clubavond
END:VEVENT
BEGIN:VEVENT
DTSTART;VALUE=DATE:20260713
DTEND;VALUE=DATE:20260714
DTSTAMP:20260422T195044
CREATED:20260117T171518Z
LAST-MODIFIED:20260117T171518Z
UID:9070-1783900800-1783987199@www.fotoclubrooi.nl
SUMMARY:Opruimen voorjaarsexpositie
DESCRIPTION:Tijdstip nog af te spreken
URL:https://www.fotoclubrooi.nl/event/opruimen-voorjaarsexpositie/
LOCATION:Mariendael Cultureel educatief centrum\, Laan van Henkenshage 2 Sint-Oedenrode\, SINT-OEDENRODE\, Nederland\, 5492 BH\, Netherlands
CATEGORIES:Expositie
END:VEVENT
BEGIN:VEVENT
DTSTART;TZID=Europe/Amsterdam:20260723T140000
DTEND;TZID=Europe/Amsterdam:20260723T160000
DTSTAMP:20260422T195044
CREATED:20260117T072416Z
LAST-MODIFIED:20260117T072416Z
UID:9050-1784815200-1784822400@www.fotoclubrooi.nl
SUMMARY:Bestuursvergadering
DESCRIPTION:
URL:https://www.fotoclubrooi.nl/event/bestuursvergadering-7/
CATEGORIES:Bestuur
END:VEVENT
BEGIN:VEVENT
DTSTART;TZID=Europe/Amsterdam:20260820T140000
DTEND;TZID=Europe/Amsterdam:20260820T160000
DTSTAMP:20260422T195044
CREATED:20260117T142358Z
LAST-MODIFIED:20260117T142358Z
UID:9052-1787234400-1787241600@www.fotoclubrooi.nl
SUMMARY:Bestuursvergadering
DESCRIPTION:
URL:https://www.fotoclubrooi.nl/event/bestuursvergadering-8/
CATEGORIES:Bestuur
END:VEVENT
BEGIN:VEVENT
DTSTART;TZID=Europe/Amsterdam:20260825T193000
DTEND;TZID=Europe/Amsterdam:20260825T223000
DTSTAMP:20260422T195044
CREATED:20260116T153934Z
LAST-MODIFIED:20260117T144349Z
UID:9022-1787686200-1787697000@www.fotoclubrooi.nl
SUMMARY:Clubavond
DESCRIPTION:Gespreksleider: \nTechniek:
URL:https://www.fotoclubrooi.nl/event/clubavond-7/
LOCATION:Mariendael Cultureel educatief centrum\, Laan van Henkenshage 2 Sint-Oedenrode\, SINT-OEDENRODE\, Nederland\, 5492 BH\, Netherlands
CATEGORIES:Clubavond
END:VEVENT
BEGIN:VEVENT
DTSTART;TZID=Europe/Amsterdam:20260924T140000
DTEND;TZID=Europe/Amsterdam:20260924T160000
DTSTAMP:20260422T195044
CREATED:20260117T142528Z
LAST-MODIFIED:20260117T142528Z
UID:9054-1790258400-1790265600@www.fotoclubrooi.nl
SUMMARY:Bestuursvergadering
DESCRIPTION:
URL:https://www.fotoclubrooi.nl/event/bestuursvergadering-9/
CATEGORIES:Bestuur
END:VEVENT
BEGIN:VEVENT
DTSTART;TZID=Europe/Amsterdam:20260929T193000
DTEND;TZID=Europe/Amsterdam:20260929T223000
DTSTAMP:20260422T195044
CREATED:20260116T154128Z
LAST-MODIFIED:20260117T144328Z
UID:9024-1790710200-1790721000@www.fotoclubrooi.nl
SUMMARY:Clubavond
DESCRIPTION:Gespreksleider: \nTechniek:
URL:https://www.fotoclubrooi.nl/event/clubavond-8/
LOCATION:Mariendael Cultureel educatief centrum\, Laan van Henkenshage 2 Sint-Oedenrode\, SINT-OEDENRODE\, Nederland\, 5492 BH\, Netherlands
CATEGORIES:Clubavond
END:VEVENT
BEGIN:VEVENT
DTSTART;VALUE=DATE:20261009
DTEND;VALUE=DATE:20261010
DTSTAMP:20260422T195044
CREATED:20260117T173447Z
LAST-MODIFIED:20260117T173447Z
UID:9079-1791504000-1791590399@www.fotoclubrooi.nl
SUMMARY:Inrichten voorjaarsexpositie
DESCRIPTION:Tijdstip nog af te spreken
URL:https://www.fotoclubrooi.nl/event/inrichten-voorjaarsexpositie-2/
LOCATION:Atrium B Hof van Rode\, Deken van Erpstraat\, Sint Oedenrode\, Netherlands
CATEGORIES:Expositie
END:VEVENT
BEGIN:VEVENT
DTSTART;TZID=Europe/Amsterdam:20261010T110000
DTEND;TZID=Europe/Amsterdam:20261011T170000
DTSTAMP:20260422T195044
CREATED:20260117T172410Z
LAST-MODIFIED:20260117T172658Z
UID:9072-1791630000-1791738000@www.fotoclubrooi.nl
SUMMARY:Expositie FotoclubRooi 2026
DESCRIPTION:Toegang gratis
URL:https://www.fotoclubrooi.nl/event/inrichten-clubexpo-2026/
LOCATION:Atrium B Hof van Rode\, Deken van Erpstraat\, Sint Oedenrode\, Netherlands
CATEGORIES:Expositie
END:VEVENT
BEGIN:VEVENT
DTSTART;VALUE=DATE:20261012
DTEND;VALUE=DATE:20261013
DTSTAMP:20260422T195044
CREATED:20260117T172841Z
LAST-MODIFIED:20260117T172841Z
UID:9077-1791763200-1791849599@www.fotoclubrooi.nl
SUMMARY:Opruimen clubexpo 2026
DESCRIPTION:Tijdstip nog af te spreken
URL:https://www.fotoclubrooi.nl/event/opruimen-clubexpo-2026/
LOCATION:Atrium B Hof van Rode\, Deken van Erpstraat\, Sint Oedenrode\, Netherlands
CATEGORIES:Expositie
END:VEVENT
BEGIN:VEVENT
DTSTART;TZID=Europe/Amsterdam:20261022T140000
DTEND;TZID=Europe/Amsterdam:20261022T160000
DTSTAMP:20260422T195044
CREATED:20260117T142700Z
LAST-MODIFIED:20260117T142700Z
UID:9056-1792677600-1792684800@www.fotoclubrooi.nl
SUMMARY:Bestuursvergadering
DESCRIPTION:
URL:https://www.fotoclubrooi.nl/event/bestuursvergadering-10/
CATEGORIES:Bestuur
END:VEVENT
BEGIN:VEVENT
DTSTART;TZID=Europe/Amsterdam:20261027T193000
DTEND;TZID=Europe/Amsterdam:20261027T223000
DTSTAMP:20260422T195044
CREATED:20260116T154245Z
LAST-MODIFIED:20260117T144309Z
UID:9026-1793129400-1793140200@www.fotoclubrooi.nl
SUMMARY:Clubavond
DESCRIPTION:Gespreksleider: \nTechniek:
URL:https://www.fotoclubrooi.nl/event/clubavond-9/
LOCATION:Mariendael Cultureel educatief centrum\, Laan van Henkenshage 2 Sint-Oedenrode\, SINT-OEDENRODE\, Nederland\, 5492 BH\, Netherlands
CATEGORIES:Clubavond
END:VEVENT
BEGIN:VEVENT
DTSTART;TZID=Europe/Amsterdam:20261119T140000
DTEND;TZID=Europe/Amsterdam:20261119T160000
DTSTAMP:20260422T195044
CREATED:20260117T142842Z
LAST-MODIFIED:20260117T142842Z
UID:9058-1795096800-1795104000@www.fotoclubrooi.nl
SUMMARY:Bestuursvergadering
DESCRIPTION:
URL:https://www.fotoclubrooi.nl/event/bestuursvergadering-11/
CATEGORIES:Bestuur
END:VEVENT
BEGIN:VEVENT
DTSTART;TZID=Europe/Amsterdam:20261124T193000
DTEND;TZID=Europe/Amsterdam:20261124T223000
DTSTAMP:20260422T195044
CREATED:20260116T154359Z
LAST-MODIFIED:20260117T144246Z
UID:9028-1795548600-1795559400@www.fotoclubrooi.nl
SUMMARY:Clubavond
DESCRIPTION:Gespreksleider: \nTechniek:
URL:https://www.fotoclubrooi.nl/event/clubavond-10/
LOCATION:Mariendael Cultureel educatief centrum\, Laan van Henkenshage 2 Sint-Oedenrode\, SINT-OEDENRODE\, Nederland\, 5492 BH\, Netherlands
CATEGORIES:Clubavond
END:VEVENT
BEGIN:VEVENT
DTSTART;TZID=Europe/Amsterdam:20261222T080000
DTEND;TZID=Europe/Amsterdam:20261222T170000
DTSTAMP:20260422T195044
CREATED:20260116T154506Z
LAST-MODIFIED:20260117T144230Z
UID:9030-1797926400-1797958800@www.fotoclubrooi.nl
SUMMARY:Clubavond
DESCRIPTION:Gespreksleider: \nTechniek:
URL:https://www.fotoclubrooi.nl/event/clubavond-11/
LOCATION:Mariendael Cultureel educatief centrum\, Laan van Henkenshage 2 Sint-Oedenrode\, SINT-OEDENRODE\, Nederland\, 5492 BH\, Netherlands
CATEGORIES:Clubavond
END:VEVENT
BEGIN:VEVENT
DTSTART;TZID=Europe/Amsterdam:20261224T140000
DTEND;TZID=Europe/Amsterdam:20261224T160000
DTSTAMP:20260422T195044
CREATED:20260117T143001Z
LAST-MODIFIED:20260117T143001Z
UID:9060-1798120800-1798128000@www.fotoclubrooi.nl
SUMMARY:Bestuursvergadering
DESCRIPTION:
URL:https://www.fotoclubrooi.nl/event/bestuursvergadering-12/
CATEGORIES:Bestuur
END:VEVENT
END:VCALENDAR